BEGIN:VCALENDAR
VERSION:2.0
PRODID:-//Mark Hartnett&#039;s Pro Tennis Academy - ECPv6.3.5//NONSGML v1.0//EN
CALSCALE:GREGORIAN
METHOD:PUBLISH
X-WR-CALNAME:Mark Hartnett&#039;s Pro Tennis Academy
X-ORIGINAL-URL:https://protennisacademy.com.au
X-WR-CALDESC:Events for Mark Hartnett&#039;s Pro Tennis Academy
REFRESH-INTERVAL;VALUE=DURATION:PT1H
X-Robots-Tag:noindex
X-PUBLISHED-TTL:PT1H
BEGIN:VTIMEZONE
TZID:Australia/Melbourne
BEGIN:STANDARD
TZOFFSETFROM:+1100
TZOFFSETTO:+1000
TZNAME:AEST
DTSTART:20250405T160000
END:STANDARD
BEGIN:DAYLIGHT
TZOFFSETFROM:+1000
TZOFFSETTO:+1100
TZNAME:AEDT
DTSTART:20251004T160000
END:DAYLIGHT
END:VTIMEZONE
BEGIN:VEVENT
DTSTART;TZID=Australia/Melbourne:20250922T080000
DTEND;TZID=Australia/Melbourne:20250924T170000
DTSTAMP:20260420T011011
CREATED:20250908T040155Z
LAST-MODIFIED:20250908T040247Z
UID:20879-1758528000-1758733200@protennisacademy.com.au
SUMMARY:Mitcham Miss Hits
DESCRIPTION:FREE TENNIS COACHING FOR GIRLS!\nServe up new skills. Build confidence. Have fun! \nHey girls! Are you aged 5–14 and want to give tennis a go?Join our FREE beginner coaching program — just for girls! No experience needed\, and we’ll provide all the gear. Just bring your energy and excitement! \n\nWhat’s Included:\nProfessional tennis coaching \nFun\, active drills and games \nFREE tennis racquet to keep! \nAll equipment provided \nSupportive\, girls-only environment \n\nLocation: Mitcham Tennis ClubDates: 22\, 23 & 24  SeptemberTime: 3:00 – 4:00 PMCost: Absolutely FREE! \nLimited spots available – register now!coaching@protennisacademy.com.au0407 050 060 \n\nGet active\, make new friends\, and fall in love with tennis — and take home your very own racquet!Let’s hit the court\, girls!
URL:https://protennisacademy.com.au/events/mitcham-miss-hits/
LOCATION:Mitcham Tennis Club\, Walker Park\, Nunawading\, Victoria\, 3131\, Australia
ATTACH;FMTTYPE=image/jpeg:https://protennisacademy.com.au/wp-content/uploads/2025/09/Copy-of-Mitcham-Miss-Hits.jpg
ORGANIZER;CN="Lisa Hartnett":MAILTO:coaching@protennisacademy.com.au
END:VEVENT
END:VCALENDAR